BEGIN:VCALENDAR
VERSION:2.0
PRODID:-//Squarespace Inc/Squarespace 6//v6//EN
BEGIN:VEVENT
UID:56fb62551bbee0aa095c0129@squarespace.com
DTSTAMP:20160330T052226Z
DTSTART:20160831T073000Z
DTEND:20160831T093000Z
SUMMARY:Serious Riggers Club
END:VEVENT
END:VCALENDAR
