BEGIN:VCALENDAR
VERSION:2.0
PRODID:-//Squarespace Inc/Squarespace 6//v6//EN
BEGIN:VEVENT
UID:56fb629c8a65e2ecc131ae3a@squarespace.com
DTSTAMP:20160330T052334Z
DTSTART:20160828T020000Z
DTEND:20160828T050000Z
SUMMARY:Rope Social
END:VEVENT
END:VCALENDAR
