BEGIN:VCALENDAR
VERSION:2.0
PRODID:-//Squarespace Inc/Squarespace 6//v6//EN
BEGIN:VEVENT
UID:56fb622107eaa0d753717a6d@squarespace.com
DTSTAMP:20160330T052110Z
DTSTART:20160824T073000Z
DTEND:20160824T093000Z
SUMMARY:Serious Riggers Club
END:VEVENT
END:VCALENDAR
