BEGIN:VCALENDAR
VERSION:2.0
PRODID:-//Squarespace Inc/Squarespace 6//v6//EN
BEGIN:VEVENT
UID:56fb61ec3c44d8524a0f7fc8@squarespace.com
DTSTAMP:20160330T052022Z
DTSTART:20160817T073000Z
DTEND:20160817T093000Z
SUMMARY:Seriousl Riggers Club
END:VEVENT
END:VCALENDAR
