BEGIN:VCALENDAR
VERSION:2.0
PRODID:-//Squarespace Inc/Squarespace 6//v6//EN
BEGIN:VEVENT
UID:56fb62e64d088ebedd924ca0@squarespace.com
DTSTAMP:20160624T042049Z
DTSTART:20160813T080000Z
DTEND:20160813T140000Z
SUMMARY:Beat & Greet
END:VEVENT
END:VCALENDAR
