BEGIN:VCALENDAR
VERSION:2.0
PRODID:-//Squarespace Inc/Squarespace 6//v6//EN
BEGIN:VEVENT
UID:571010e84d088e52a8648dbb@squarespace.com
DTSTAMP:20160426T212112Z
DTSTART:20160428T053000Z
DTEND:20160428T073000Z
SUMMARY:Private Hire
END:VEVENT
END:VCALENDAR
