BEGIN:VCALENDAR
VERSION:2.0
PRODID:-//Squarespace Inc/Squarespace 6//v6//EN
BEGIN:VEVENT
UID:5701d8f88a65e235846bdc03@squarespace.com
DTSTAMP:20160404T030333Z
DTSTART:20160416T010000Z
DTEND:20160416T040000Z
SUMMARY:Shibari: Beyond the Basics 
END:VEVENT
END:VCALENDAR
