BEGIN:VCALENDAR
VERSION:2.0
PRODID:-//Squarespace Inc/Squarespace 6//v6//EN
BEGIN:VEVENT
UID:5702e717b654f934aee0c49b@squarespace.com
DTSTAMP:20160414T212741Z
DTSTART:20160415T040000Z
DTEND:20160415T080000Z
SUMMARY:Photoshoot Hire
END:VEVENT
END:VCALENDAR
