BEGIN:VCALENDAR
VERSION:2.0
PRODID:-//Squarespace Inc/Squarespace 6//v6//EN
BEGIN:VEVENT
UID:5706cc5bc6fc0844756b7fe0@squarespace.com
DTSTAMP:20160412T041814Z
DTSTART:20160413T043000Z
DTEND:20160413T063000Z
SUMMARY:Private Hire
END:VEVENT
END:VCALENDAR
