BEGIN:VCALENDAR
VERSION:2.0
PRODID:-//Squarespace Inc/Squarespace 6//v6//EN
BEGIN:VEVENT
UID:564a9c9ce4b0cfe417850647@squarespace.com
DTSTAMP:20151123T193402Z
DTSTART:20151206T010000Z
DTEND:20151206T030000Z
SUMMARY:Liquid Latex Workshop
GEO:-41.294018;174.775485
LOCATION:Threshold\, 167 Cuba Street\, Wellington\, Wellington\, 6011\, New 
 Zealand
END:VEVENT
END:VCALENDAR
