BEGIN:VCALENDAR
VERSION:2.0
PRODID:-//Squarespace Inc/Squarespace 6//v6//EN
BEGIN:VEVENT
UID:56439b71e4b032f47d4b9d91@squarespace.com
DTSTAMP:20151112T223109Z
DTSTART:20151216T063000Z
DTEND:20151216T083000Z
SUMMARY:Serious Riggers Club
GEO:-41.294018;174.775485
LOCATION:Threshold\, 167 Cuba Street\, Wellington\, Wellington\, 6011\, New 
 Zealand
END:VEVENT
END:VCALENDAR
