BEGIN:VCALENDAR
VERSION:2.0
PRODID:-//Squarespace Inc/Squarespace 6//v6//EN
BEGIN:VEVENT
UID:564513b5e4b068aa14a104e6@squarespace.com
DTSTAMP:20151113T035717Z
DTSTART:20151127T070000Z
DTEND:20151128T140000Z
SUMMARY:Threshold Grand Opening
GEO:-41.294018;174.775485
LOCATION:Threshold\, 167 Cuba Street\, Wellington\, Wellington\, 6011\, New 
 Zealand
END:VEVENT
END:VCALENDAR
