BEGIN:VCALENDAR
VERSION:2.0
PRODID:-//Squarespace Inc/Squarespace 6//v6//EN
BEGIN:VEVENT
UID:56d4fdaa4c2f8513ee0fa17a@squarespace.com
DTSTAMP:20160302T003244Z
DTSTART:20160306T213000Z
DTEND:20160307T013000Z
SUMMARY:Private Hire
END:VEVENT
END:VCALENDAR
