BEGIN:VCALENDAR
VERSION:2.0
PRODID:-//Squarespace Inc/Squarespace 6//v6//EN
BEGIN:VEVENT
UID:569983f057eb8d0f11408752@squarespace.com
DTSTAMP:20160119T222357Z
DTSTART:20160305T060000Z
DTEND:20160305T120000Z
SUMMARY:Private Hire Party - Super Serious BDSM
END:VEVENT
END:VCALENDAR
