BEGIN:VCALENDAR
VERSION:2.0
PRODID:-//Squarespace Inc/Squarespace 6//v6//EN
BEGIN:VEVENT
UID:5699839a7086d768fde972c3@squarespace.com
DTSTAMP:20160119T222917Z
DTSTART:20160305T010000Z
DTEND:20160305T030000Z
SUMMARY:Flogging Workshop
END:VEVENT
END:VCALENDAR
