BEGIN:VCALENDAR
VERSION:2.0
PRODID:-//Squarespace Inc/Squarespace 6//v6//EN
BEGIN:VEVENT
UID:56668832b204d5891f0c840b@squarespace.com
DTSTAMP:20151208T073632Z
DTSTART:20160302T063000Z
DTEND:20160302T083000Z
SUMMARY:Serious Riggers Club
GEO:-41.294018;174.775485
LOCATION:Threshold\, 167 Cuba Street\, Wellington\, Wellington\, 6011\, New 
 Zealand
END:VEVENT
END:VCALENDAR
