BEGIN:VCALENDAR
VERSION:2.0
PRODID:-//Squarespace Inc/Squarespace 6//v6//EN
BEGIN:VEVENT
UID:56bcf9063c44d8eb50629da7@squarespace.com
DTSTAMP:20160211T211407Z
DTSTART:20160229T050000Z
DTEND:20160229T090000Z
SUMMARY:TOSC D-Vice Social
END:VEVENT
END:VCALENDAR
