BEGIN:VCALENDAR
VERSION:2.0
PRODID:-//Squarespace Inc/Squarespace 6//v6//EN
BEGIN:VEVENT
UID:564a9d2ee4b04d9b27f41ed6@squarespace.com
DTSTAMP:20160105T144313Z
DTSTART:20160226T210000Z
DTEND:20160228T050000Z
SUMMARY:Gorgone Intensive
GEO:-41.294018;174.775485
LOCATION:Threshold\, 167 Cuba Street\, Wellington\, Wellington\, 6011\, New 
 Zealand
END:VEVENT
END:VCALENDAR
